BEGIN:VCALENDAR
PRODID:-//eluceo/ical//2.0/EN
VERSION:2.0
CALSCALE:GREGORIAN
BEGIN:VEVENT
UID:33ef623a834a5b4830589037eb6028d8
DTSTAMP:20260419T233646Z
SUMMARY:Foundation Board of Trustees
DESCRIPTION:Jewish Long Beach\nCalendar\nhttps://jewishlongbeach.org/calend
 ar/foundation-board-of-trustees\n\nFoundation Board of Trustees Meeting
DTSTART;TZID=America/Los_Angeles:20150805T190000
DTEND;TZID=America/Los_Angeles:20150805T203000
END:VEVENT
END:VCALENDAR
