BEGIN:VCALENDAR
PRODID:-//eluceo/ical//2.0/EN
VERSION:2.0
CALSCALE:GREGORIAN
BEGIN:VEVENT
UID:e0bf43515ca50644451495acc73eb013
DTSTAMP:20260422T152809Z
SUMMARY:Foundation Board of Trustees
DESCRIPTION:Jewish Long Beach\nCalendar\nhttps://jewishlongbeach.org/calend
 ar/foundation-board-of-trustees-four\n\nFoundation Board of Trustees
DTSTART;TZID=America/Los_Angeles:20171206T190000
DTEND;TZID=America/Los_Angeles:20171206T210000
END:VEVENT
END:VCALENDAR
