BEGIN:VCALENDAR
PRODID:-//eluceo/ical//2.0/EN
VERSION:2.0
CALSCALE:GREGORIAN
BEGIN:VEVENT
UID:dc1ef87fbe1c40fc6675555714e07c7c
DTSTAMP:20260420T135716Z
SUMMARY:Foundation Board of Trustees
DESCRIPTION:Jewish Long Beach\nCalendar\nhttps://jewishlongbeach.org/calend
 ar/foundation-board-of-trustees-three\n\nFoundation Board of Trustees
DTSTART;TZID=America/Los_Angeles:20171010T190000
DTEND;TZID=America/Los_Angeles:20171010T210000
END:VEVENT
END:VCALENDAR
