BEGIN:VCALENDAR
PRODID:-//eluceo/ical//2.0/EN
VERSION:2.0
CALSCALE:GREGORIAN
BEGIN:VEVENT
UID:d3ffbcaf256b7937bdf9bda8620a8843
DTSTAMP:20260424T125740Z
SUMMARY:Foundation Board of Trustees
DESCRIPTION:Jewish Long Beach\nCalendar\nhttps://jewishlongbeach.org/calend
 ar/foundation-board-of-trustees3\n\nFoundation Board of Trustees Meeting
DTSTART;TZID=America/Los_Angeles:20151202T190000
DTEND;TZID=America/Los_Angeles:20151202T203000
END:VEVENT
END:VCALENDAR
