BEGIN:VCALENDAR
PRODID:-//eluceo/ical//2.0/EN
VERSION:2.0
CALSCALE:GREGORIAN
BEGIN:VEVENT
UID:3d8927b17be2e5316c6d1a811de90ee2
DTSTAMP:20260424T004632Z
SUMMARY:Foundation Board of Trustees
DESCRIPTION:Jewish Long Beach\nCalendar\nhttps://jewishlongbeach.org/calend
 ar/foundation-board-of-trustees4\n\nFoundation Board of Trustees Meeting
DTSTART;TZID=America/Los_Angeles:20160203T190000
DTEND;TZID=America/Los_Angeles:20160203T203000
END:VEVENT
END:VCALENDAR
