BEGIN:VCALENDAR
PRODID:-//eluceo/ical//2.0/EN
VERSION:2.0
CALSCALE:GREGORIAN
BEGIN:VEVENT
UID:0d3ea06befdd06543663ee68b1ab3d97
DTSTAMP:20260422T173956Z
SUMMARY:Foundation Educational Event
DESCRIPTION:Jewish Long Beach\nCalendar\nhttps://jewishlongbeach.org/calend
 ar/foundation-educational-event\n\nFoundation Educational Event
DTSTART;TZID=America/Los_Angeles:20160113T180000
DTEND;TZID=America/Los_Angeles:20160113T200000
END:VEVENT
END:VCALENDAR
