BEGIN:VCALENDAR
PRODID:-//eluceo/ical//2.0/EN
VERSION:2.0
CALSCALE:GREGORIAN
BEGIN:VEVENT
UID:7db8beaa49d6f8002894558b60f0559b
DTSTAMP:20260425T035236Z
SUMMARY:Foundation Executive Committee
DESCRIPTION:Jewish Long Beach\nCalendar\nhttps://jewishlongbeach.org/calend
 ar/foundation-executive-committee-four\n\nFoundation Executive Committee
DTSTART;TZID=America/Los_Angeles:20180103T190000
DTEND;TZID=America/Los_Angeles:20180103T210000
END:VEVENT
END:VCALENDAR
