BEGIN:VCALENDAR
PRODID:-//eluceo/ical//2.0/EN
VERSION:2.0
CALSCALE:GREGORIAN
BEGIN:VEVENT
UID:a40c4c8c2f6708894d9106de17d52610
DTSTAMP:20260422T112114Z
SUMMARY:Foundation Executive Committee
DESCRIPTION:Jewish Long Beach\nCalendar\nhttps://jewishlongbeach.org/calend
 ar/foundation-executive-committee4\n\nFoundation Executive Committee Meein
 g
DTSTART;TZID=America/Los_Angeles:20160302T190000
DTEND;TZID=America/Los_Angeles:20160302T203000
END:VEVENT
END:VCALENDAR
