BEGIN:VCALENDAR
PRODID:-//eluceo/ical//2.0/EN
VERSION:2.0
CALSCALE:GREGORIAN
BEGIN:VEVENT
UID:3c765e80ee98ce7cc80c1b12f0349f41
DTSTAMP:20260420T081218Z
SUMMARY:Foundation Finance
DESCRIPTION:Jewish Long Beach\nCalendar\nhttps://jewishlongbeach.org/calend
 ar/foundation-finance-three\n\nFoundation Finance
DTSTART;TZID=America/Los_Angeles:20171206T173000
DTEND;TZID=America/Los_Angeles:20171206T190000
END:VEVENT
END:VCALENDAR
