BEGIN:VCALENDAR
PRODID:-//eluceo/ical//2.0/EN
VERSION:2.0
CALSCALE:GREGORIAN
BEGIN:VEVENT
UID:a66f039a579db2b18a04f58b46d9ee9d
DTSTAMP:20260425T181715Z
SUMMARY:Foundation Legacy Committee
DESCRIPTION:Jewish Long Beach\nCalendar\nhttps://jewishlongbeach.org/calend
 ar/foundation-legacy-committee-2\n\nFoundation Legacy Committee
DTSTART;TZID=America/Los_Angeles:20160920T190000
DTEND;TZID=America/Los_Angeles:20160920T210000
END:VEVENT
END:VCALENDAR
