BEGIN:VCALENDAR
PRODID:-//eluceo/ical//2.0/EN
VERSION:2.0
CALSCALE:GREGORIAN
BEGIN:VEVENT
UID:41380b4a896a9ceb8ac04cb3bd24a4a1
DTSTAMP:20260422T033046Z
SUMMARY:Gesher Jewish Young Adults Sukkot Dinner
DESCRIPTION:Jewish Long Beach\nCalendar\nhttps://jewishlongbeach.org/calend
 ar/gesher-jewish-young-adults-sukkot-dinner\n\nJoin other Jewish young pro
 fesionals in Long Beach (ages 25-45) for an amazing dinner in the sukkah.
   Celebrate the sixths night of Sukkot in a beautiful sukkah in a private
  home in Long Beach.  Dinner is Kosher.  Please RSVP to reserve a spot s
 pace is limited.  For more information and to RSVP contact Dana Schneide
 r-Chanzit 562-426-7601 X1067 or dschneider@alpertjcc.org
DTSTART;TZID=America/Los_Angeles:20191018T190000
DTEND;TZID=America/Los_Angeles:20191018T220000
END:VEVENT
END:VCALENDAR
