BEGIN:VCALENDAR
PRODID:-//eluceo/ical//2.0/EN
VERSION:2.0
CALSCALE:GREGORIAN
BEGIN:VEVENT
UID:69dba776509e0b03c399dac92b833b59
DTSTAMP:20260421T211634Z
SUMMARY:Hadassah Women's Health Series
DESCRIPTION:Jewish Long Beach\nCalendar\nhttps://jewishlongbeach.org/calend
 ar/hadassah-womens-health-series\n\nHadassah of Southern California and th
 e AJCC are teaming up to bring you this exciting series on women’s healt
 h. Topics include: \n\n\nOct 24 Breast Cancer Awareness\nFeb 13 Healthy T
 reats for your Heart\nMay 8 Melanoma Awareness\n\n\nCost is $65 for the en
 tire series\, including Feb. 13 cooking workshop\; Pre-register for indivi
 dual workshop: $18.  ($36 for Feb. 13 cooking workshop).\n\nWalk-ins $20
  for individual workshop ($40 for Feb. 13 cooking workshop).
DTSTART;TZID=America/Los_Angeles:20171024T190000
DTEND;TZID=America/Los_Angeles:20171024T210000
END:VEVENT
END:VCALENDAR
