BEGIN:VCALENDAR
PRODID:-//eluceo/ical//2.0/EN
VERSION:2.0
CALSCALE:GREGORIAN
BEGIN:VEVENT
UID:16e2736ba5c39d4151d0bab992d2b3cf
DTSTAMP:20260422T201841Z
SUMMARY:Happiness & Humor
DESCRIPTION:Jewish Long Beach\nCalendar\nhttps://jewishlongbeach.org/calend
 ar/happiness-humor-may26\n\nFIRST FRIDAY OF THE MONTH | 11 AM | IN-PERSON 
 | FREE\n\nDr. Susan Mathieu is back to help you find the positive side of 
 life. You’ll learn how to deal with difficult people and situations\, st
 eps to increase happiness in your own life\, and the secret to a happy lif
 e. All seniors are invited\, so bring a friend and be ready to laugh!\n\n
  \n\nFor more information\, contact Dr. Susan Mathieu at (562) 426-7601 e
 xt. 1721 or smathieu@alpertjcc.org\n\nRSVP! Please bring ID to check in!
DTSTART;TZID=America/Los_Angeles:20260501T110000
DTEND;TZID=America/Los_Angeles:20260501T120000
END:VEVENT
END:VCALENDAR
