BEGIN:VCALENDAR
PRODID:-//eluceo/ical//2.0/EN
VERSION:2.0
CALSCALE:GREGORIAN
BEGIN:VEVENT
UID:7d88027988700df21a0b234b9465e4af
DTSTAMP:20260424T204453Z
SUMMARY:Hebrew Academy Auction Royale
DESCRIPTION:Jewish Long Beach\nCalendar\nhttps://jewishlongbeach.org/calend
 ar/hebrew-academy-auction-royale\n\nHebrew Academy Auction Royale\n\nThe C
 entre\, Sycamore Plaza\, Lakewood
DTSTART;TZID=America/Los_Angeles:20151122T173000
DTEND;TZID=America/Los_Angeles:20151122T210000
END:VEVENT
END:VCALENDAR
