BEGIN:VCALENDAR
PRODID:-//eluceo/ical//2.0/EN
VERSION:2.0
CALSCALE:GREGORIAN
BEGIN:VEVENT
UID:045c1876407b431df4ad4d07a2b0954b
DTSTAMP:20260419T125239Z
SUMMARY:Israel Education & Advocacy Community Meeting
DESCRIPTION:Jewish Long Beach\nCalendar\nhttps://jewishlongbeach.org/calend
 ar/israel-education-advocacy-community-meeting\n\nIsrael Education & Advoc
 acy Community Meeting
DTSTART;TZID=America/Los_Angeles:20141028T190000
DTEND;TZID=America/Los_Angeles:20141028T210000
END:VEVENT
END:VCALENDAR
