BEGIN:VCALENDAR
PRODID:-//eluceo/ical//2.0/EN
VERSION:2.0
CALSCALE:GREGORIAN
BEGIN:VEVENT
UID:8d57761927277cbe5d89e78fc8d22c3f
DTSTAMP:20260423T072720Z
SUMMARY:Israel Town Hall
DESCRIPTION:Jewish Long Beach\nCalendar\nhttps://jewishlongbeach.org/calend
 ar/israel-town-hall\n\nIsrael Town Hall
DTSTART;TZID=America/Los_Angeles:20151015T190000
DTEND;TZID=America/Los_Angeles:20151015T210000
END:VEVENT
END:VCALENDAR
