BEGIN:VCALENDAR
PRODID:-//eluceo/ical//2.0/EN
VERSION:2.0
CALSCALE:GREGORIAN
BEGIN:VEVENT
UID:b696380392c55e8e93d6d0ee405f0688
DTSTAMP:20260421T194200Z
SUMMARY:Italy & Israel Community Trip
DESCRIPTION:Jewish Long Beach\nCalendar\nhttps://jewishlongbeach.org/calend
 ar/italy--israel-community-trip-1654809978\n\nWe welcome you on a special 
 journey to discover Jewish Italy and visit the diverse and incredible Isra
 el from Dec 5 - 19\, 2022. Whether this is your first or fiftieth visit to
  Israel\, there is a place for you on this incredible journey!Enjoy Five S
 tar Hotels \, Deluxe Tour Buses\, Amazing Meals and Flexible Planning!Trip
  Highlights: Israel: Zichron Yaacov\, Jaffa\, Tel Aviv\, Jerusalem Excursi
 ons to Bahai Gardens\, Old City of Acco\, Dinner in the Galilee\, Tel Aviv
  Art Museum\, Food walking tour of T...
DTSTART;TZID=America/Los_Angeles:20221205T000000
DTEND;TZID=America/Los_Angeles:20221219T235500
END:VEVENT
END:VCALENDAR
