BEGIN:VCALENDAR
PRODID:-//eluceo/ical//2.0/EN
VERSION:2.0
CALSCALE:GREGORIAN
BEGIN:VEVENT
UID:41685c250949883632d2a815e2663345
DTSTAMP:20260422T200251Z
SUMMARY:JCF Investment Committee
DESCRIPTION:Jewish Long Beach\nCalendar\nhttps://jewishlongbeach.org/calend
 ar/jcf-investment-committee-6\n\nJCF Investment Committee
DTSTART;TZID=America/Los_Angeles:20190520T173000
DTEND;TZID=America/Los_Angeles:20190520T190000
END:VEVENT
END:VCALENDAR
