BEGIN:VCALENDAR
PRODID:-//eluceo/ical//2.0/EN
VERSION:2.0
CALSCALE:GREGORIAN
BEGIN:VEVENT
UID:bcaef5ba3f79bfc09fc485cfc43e850e
DTSTAMP:20260423T220723Z
SUMMARY:Jessie Butler Senior Luncheon
DESCRIPTION:Jewish Long Beach\nCalendar\nhttps://jewishlongbeach.org/calend
 ar/jessie-butler-senior-luncheon-june18\n\nWEDNESDAYS | 12 PM | IN PERSON\
 n\n$10 | $5 for AJCC Members\nOpen to our senior community! Good food and 
 entertainment\, musical guests\, crafts\, games and more! Space is limited
 : please RSVP above and bring ID to check in!\n\nUpcoming Dates:\nJune 4\
 , 18
DTSTART;TZID=America/Los_Angeles:20250618T120000
DTEND;TZID=America/Los_Angeles:20250618T130000
END:VEVENT
END:VCALENDAR
