BEGIN:VCALENDAR
PRODID:-//eluceo/ical//2.0/EN
VERSION:2.0
CALSCALE:GREGORIAN
BEGIN:VEVENT
UID:4d896304f035faf7c52cbd65aba27577
DTSTAMP:20260424T214921Z
SUMMARY:Jessie Butler Senior Luncheon
DESCRIPTION:Jewish Long Beach\nCalendar\nhttps://jewishlongbeach.org/calend
 ar/jessie-butler-senior-luncheon-june4\n\nWEDNESDAYS | 12 PM | IN PERSON\n
 \n$10 | $5 for AJCC Members\nOpen to our senior community! Good food and e
 ntertainment\, musical guests\, crafts\, games and more! Space is limited:
  please RSVP above and bring ID to check in!\n\nUpcoming Dates:\nJune 4\,
  18
DTSTART;TZID=America/Los_Angeles:20250604T120000
DTEND;TZID=America/Los_Angeles:20250604T130000
END:VEVENT
END:VCALENDAR
