BEGIN:VCALENDAR
PRODID:-//eluceo/ical//2.0/EN
VERSION:2.0
CALSCALE:GREGORIAN
BEGIN:VEVENT
UID:a80f6fd316b4298bdf7f45cd9c334aef
DTSTAMP:20260423T043340Z
SUMMARY:Jewish Community Foundation Legacy Brunch
DESCRIPTION:Jewish Long Beach\nCalendar\nhttps://jewishlongbeach.org/calend
 ar/jewish-community-foundation-legacy-brunch\n\nMore information to follow
 .
DTSTART;TZID=America/Los_Angeles:20190407T110000
DTEND;TZID=America/Los_Angeles:20190407T130000
END:VEVENT
END:VCALENDAR
