BEGIN:VCALENDAR
PRODID:-//eluceo/ical//2.0/EN
VERSION:2.0
CALSCALE:GREGORIAN
BEGIN:VEVENT
UID:c5999b9b2f527fbeec27bb61deed98fc
DTSTAMP:20260423T183013Z
SUMMARY:Jewish Federation/Foundation Joint Annual Meeting
DESCRIPTION:Jewish Long Beach\nCalendar\nhttps://jewishlongbeach.org/calend
 ar/jewish-federationfoundation-joint-annual-meeting\n\nJewish Federation/F
 oundation joint Annual meeting
DTSTART;TZID=America/Los_Angeles:20160609T180000
DTEND;TZID=America/Los_Angeles:20160609T203000
END:VEVENT
END:VCALENDAR
