BEGIN:VCALENDAR
PRODID:-//eluceo/ical//2.0/EN
VERSION:2.0
CALSCALE:GREGORIAN
BEGIN:VEVENT
UID:d1cdcbfe57c9aa8012569cedea26c938
DTSTAMP:20260422T052303Z
SUMMARY:Jewish Long Beach Alpert New Leaders Forum
DESCRIPTION:Jewish Long Beach\nCalendar\nhttps://jewishlongbeach.org/calend
 ar/jewish-long-beach-alpert-new-leaders-forum-10-1-20\n\nThe Alpert New Le
 aders Forum (ANLF)\, made possible by the generosity of Barbara and Ray Al
 pert*\, is a free year-long leadership development series for emerging lea
 ders of the Long Beach Jewish Community. Participants will have the opport
 unity to engage in lively discussions\, hands-on experiences and will buil
 d skills to feel empowered to affect change. There will also be additional
  opportunities for social networking\, Jewish enrichment and social action
 .\n\n 
DTSTART;TZID=America/Los_Angeles:20201001T180000
DTEND;TZID=America/Los_Angeles:20201001T200000
END:VEVENT
END:VCALENDAR
