BEGIN:VCALENDAR
PRODID:-//eluceo/ical//2.0/EN
VERSION:2.0
CALSCALE:GREGORIAN
BEGIN:VEVENT
UID:5ee4cc53667db6801e4352068ac9e13f
DTSTAMP:20260424T214941Z
SUMMARY:Jewish Long Beach and Alpert JCC Opening Night
DESCRIPTION:Jewish Long Beach\nCalendar\nhttps://jewishlongbeach.org/calend
 ar/jewish-long-beach-and-alpert-jcc-opening-night\n\nMore information to f
 ollow.
DTSTART;TZID=America/Los_Angeles:20201108T170000
DTEND;TZID=America/Los_Angeles:20201108T190000
END:VEVENT
END:VCALENDAR
