BEGIN:VCALENDAR
PRODID:-//eluceo/ical//2.0/EN
VERSION:2.0
CALSCALE:GREGORIAN
BEGIN:VEVENT
UID:3097c2f306f0254f12908da60fc12300
DTSTAMP:20260422T160517Z
SUMMARY:Jewish Long Beach Board
DESCRIPTION:Jewish Long Beach\nCalendar\nhttps://jewishlongbeach.org/calend
 ar/jewish-long-beach-board-3\n\nJewish Long Beach Board
DTSTART;TZID=America/Los_Angeles:20200316T190000
DTEND;TZID=America/Los_Angeles:20200316T210000
END:VEVENT
END:VCALENDAR
