BEGIN:VCALENDAR
PRODID:-//eluceo/ical//2.0/EN
VERSION:2.0
CALSCALE:GREGORIAN
BEGIN:VEVENT
UID:25e4897afa1c2e1d390fd9523181a4e4
DTSTAMP:20260421T141414Z
SUMMARY:Jewish Long Beach Board
DESCRIPTION:Jewish Long Beach\nCalendar\nhttps://jewishlongbeach.org/calend
 ar/jewish-long-beach-board-4\n\nJewish Long Beach Board
DTSTART;TZID=America/Los_Angeles:20200518T190000
DTEND;TZID=America/Los_Angeles:20200518T210000
END:VEVENT
END:VCALENDAR
