BEGIN:VCALENDAR
PRODID:-//eluceo/ical//2.0/EN
VERSION:2.0
CALSCALE:GREGORIAN
BEGIN:VEVENT
UID:06f2dc21eb062be499132ed410599e4b
DTSTAMP:20260422T224034Z
SUMMARY:Jewish Long Beach Closed
DESCRIPTION:Jewish Long Beach\nCalendar\nhttps://jewishlongbeach.org/calend
 ar/jewish-long-beach-closed-1\n\nClosed in observance of Labor Day
DTSTART;TZID=America/Los_Angeles:20190902T000000
DTEND;TZID=America/Los_Angeles:20190902T000000
END:VEVENT
END:VCALENDAR
