BEGIN:VCALENDAR
PRODID:-//eluceo/ical//2.0/EN
VERSION:2.0
CALSCALE:GREGORIAN
BEGIN:VEVENT
UID:02c7448b0665c63cd35af10924266ff1
DTSTAMP:20260424T011202Z
SUMMARY:Jewish Long Beach Closed
DESCRIPTION:Jewish Long Beach\nCalendar\nhttps://jewishlongbeach.org/calend
 ar/jewish-long-beach-closed-11\n\nClosed in observance of New Year's Day
DTSTART;TZID=America/Los_Angeles:20200101T000000
DTEND;TZID=America/Los_Angeles:20200101T000000
END:VEVENT
END:VCALENDAR
