BEGIN:VCALENDAR
PRODID:-//eluceo/ical//2.0/EN
VERSION:2.0
CALSCALE:GREGORIAN
BEGIN:VEVENT
UID:73f725c3789063b87312dff4ade967d2
DTSTAMP:20260423T115400Z
SUMMARY:Jewish Long Beach Closed
DESCRIPTION:Jewish Long Beach\nCalendar\nhttps://jewishlongbeach.org/calend
 ar/jewish-long-beach-closed-18\n\nClosed in observance of Labor Day
DTSTART;TZID=America/Los_Angeles:20200907T000000
DTEND;TZID=America/Los_Angeles:20200907T000000
END:VEVENT
END:VCALENDAR
