BEGIN:VCALENDAR
PRODID:-//eluceo/ical//2.0/EN
VERSION:2.0
CALSCALE:GREGORIAN
BEGIN:VEVENT
UID:9f5ca267f7a3377899589ba8b16f3ca4
DTSTAMP:20260424T011039Z
SUMMARY:Jewish Long Beach Closed
DESCRIPTION:Jewish Long Beach\nCalendar\nhttps://jewishlongbeach.org/calend
 ar/jewish-long-beach-closed-19\n\nClosed in observance of Yom Kippur
DTSTART;TZID=America/Los_Angeles:20200928T000000
DTEND;TZID=America/Los_Angeles:20200928T000000
END:VEVENT
END:VCALENDAR
