BEGIN:VCALENDAR
PRODID:-//eluceo/ical//2.0/EN
VERSION:2.0
CALSCALE:GREGORIAN
BEGIN:VEVENT
UID:0a7b2a1c76b48d7f3d020dfe54f7b1b4
DTSTAMP:20260424T165621Z
SUMMARY:Jewish Long Beach Closed
DESCRIPTION:Jewish Long Beach\nCalendar\nhttps://jewishlongbeach.org/calend
 ar/jewish-long-beach-closed-22\n\nClosed in observance of New Year's Day
DTSTART;TZID=America/Los_Angeles:20210101T000000
DTEND;TZID=America/Los_Angeles:20210101T000000
END:VEVENT
END:VCALENDAR
