BEGIN:VCALENDAR
PRODID:-//eluceo/ical//2.0/EN
VERSION:2.0
CALSCALE:GREGORIAN
BEGIN:VEVENT
UID:93e3b8222831fa8f5a4740a721d6e89a
DTSTAMP:20260419T175753Z
SUMMARY:Jewish Long Beach Closed
DESCRIPTION:Jewish Long Beach\nCalendar\nhttps://jewishlongbeach.org/calend
 ar/jewish-long-beach-closed-3\n\nClosed in observance of Rosh HaShana II
DTSTART;TZID=America/Los_Angeles:20191001T000000
DTEND;TZID=America/Los_Angeles:20191001T235959
END:VEVENT
END:VCALENDAR
