BEGIN:VCALENDAR
PRODID:-//eluceo/ical//2.0/EN
VERSION:2.0
CALSCALE:GREGORIAN
BEGIN:VEVENT
UID:8c5aba1fdff27402c69a5a91861e3169
DTSTAMP:20260422T154404Z
SUMMARY:Jewish Long Beach Closed
DESCRIPTION:Jewish Long Beach\nCalendar\nhttps://jewishlongbeach.org/calend
 ar/jewish-long-beach-closed-Shmini-Atzret\n\nJewish Long Beach Closed in o
 bservance of Shmini Atzret
DTSTART;TZID=America/Los_Angeles:20210928T000000
DTEND;TZID=America/Los_Angeles:20210928T235959
END:VEVENT
END:VCALENDAR
