BEGIN:VCALENDAR
PRODID:-//eluceo/ical//2.0/EN
VERSION:2.0
CALSCALE:GREGORIAN
BEGIN:VEVENT
UID:d7ba7bf90097d751da12361003486f9b
DTSTAMP:20260420T054050Z
SUMMARY:Jewish Long Beach Closed
DESCRIPTION:Jewish Long Beach\nCalendar\nhttps://jewishlongbeach.org/calend
 ar/jewish-long-beach-closed-Sukkot-II\n\nJewish Long Beach Closed in obser
 vance of Sukkot II
DTSTART;TZID=America/Los_Angeles:20210922T000000
DTEND;TZID=America/Los_Angeles:20210922T235959
END:VEVENT
END:VCALENDAR
