BEGIN:VCALENDAR
PRODID:-//eluceo/ical//2.0/EN
VERSION:2.0
CALSCALE:GREGORIAN
BEGIN:VEVENT
UID:897283c254aab312d55ffdf2e4c2a64f
DTSTAMP:20260423T023307Z
SUMMARY:Jewish Long Beach Closed
DESCRIPTION:Jewish Long Beach\nCalendar\nhttps://jewishlongbeach.org/calend
 ar/jewish-long-beach-closed-Yom-Kippur\n\nJewish Long Beach Closed in obse
 rvance of Yom Kippur
DTSTART;TZID=America/Los_Angeles:20210916T000000
DTEND;TZID=America/Los_Angeles:20210916T235959
END:VEVENT
END:VCALENDAR
