BEGIN:VCALENDAR
PRODID:-//eluceo/ical//2.0/EN
VERSION:2.0
CALSCALE:GREGORIAN
BEGIN:VEVENT
UID:ec6fa851414126691a34e725af961eb1
DTSTAMP:20260422T224505Z
SUMMARY:Jewish Long Beach Closed
DESCRIPTION:Jewish Long Beach\nCalendar\nhttps://jewishlongbeach.org/calend
 ar/jewish-long-beach-closed-memorial-day\n\nJewish Long Beach Closed in ob
 servance of Memorial Day.
DTSTART;TZID=America/Los_Angeles:20210531T000000
DTEND;TZID=America/Los_Angeles:20210531T235959
END:VEVENT
END:VCALENDAR
