BEGIN:VCALENDAR
PRODID:-//eluceo/ical//2.0/EN
VERSION:2.0
CALSCALE:GREGORIAN
BEGIN:VEVENT
UID:e8ac82de5d98b80221066424b81bc8d7
DTSTAMP:20260425T183819Z
SUMMARY:Jewish Long Beach Executive Committee
DESCRIPTION:Jewish Long Beach\nCalendar\nhttps://jewishlongbeach.org/calend
 ar/jewish-long-beach-executive-committee-01-12-21\n\nJewish Long Beach Exe
 cutive Committee
DTSTART;TZID=America/Los_Angeles:20210112T190000
DTEND;TZID=America/Los_Angeles:20210112T203000
END:VEVENT
END:VCALENDAR
