BEGIN:VCALENDAR
PRODID:-//eluceo/ical//2.0/EN
VERSION:2.0
CALSCALE:GREGORIAN
BEGIN:VEVENT
UID:a347f1b7764267c4dac7ecdf553e8318
DTSTAMP:20260424T215001Z
SUMMARY:Jewish Long Beach Executive Committee
DESCRIPTION:Jewish Long Beach\nCalendar\nhttps://jewishlongbeach.org/calend
 ar/jewish-long-beach-executive-committee-03-09-21\n\nJewish Long Beach Exe
 cutive Committee
DTSTART;TZID=America/Los_Angeles:20210309T190000
DTEND;TZID=America/Los_Angeles:20210309T203000
END:VEVENT
END:VCALENDAR
