BEGIN:VCALENDAR
PRODID:-//eluceo/ical//2.0/EN
VERSION:2.0
CALSCALE:GREGORIAN
BEGIN:VEVENT
UID:80ea01965b2f29dbee2f656e3dd86cda
DTSTAMP:20260421T174744Z
SUMMARY:Jewish Long Beach Executive Committee
DESCRIPTION:Jewish Long Beach\nCalendar\nhttps://jewishlongbeach.org/calend
 ar/jewish-long-beach-executive-committee-12-8-20\n\nJewish Long Beach Exec
 utive Committee
DTSTART;TZID=America/Los_Angeles:20201208T190000
DTEND;TZID=America/Los_Angeles:20201208T203000
END:VEVENT
END:VCALENDAR
