BEGIN:VCALENDAR
PRODID:-//eluceo/ical//2.0/EN
VERSION:2.0
CALSCALE:GREGORIAN
BEGIN:VEVENT
UID:9e41403a908c1d95d92b6561adda801d
DTSTAMP:20260421T074501Z
SUMMARY:Jewish Long Beach Executive Committee
DESCRIPTION:Jewish Long Beach\nCalendar\nhttps://jewishlongbeach.org/calend
 ar/jewish-long-beach-executive-committee-4\n\nJewish Long Beach Executive 
 Committee
DTSTART;TZID=America/Los_Angeles:20191216T190000
DTEND;TZID=America/Los_Angeles:20191216T210000
END:VEVENT
END:VCALENDAR
