BEGIN:VCALENDAR
PRODID:-//eluceo/ical//2.0/EN
VERSION:2.0
CALSCALE:GREGORIAN
BEGIN:VEVENT
UID:69014c44d18b070ed05c3524384e32f2
DTSTAMP:20260422T165532Z
SUMMARY:Jewish Long Beach Live Virtual Chanukah Event with Chef Michael Sol
 omonov
DESCRIPTION:Jewish Long Beach\nCalendar\nhttps://jewishlongbeach.org/calend
 ar/jewish-long-beach-live-virtual-chanukah-event-with-chef-michael-solomon
 ov\n\nJewish Long Beach will partner with 44 Federations to present LIVE V
 IRTUAL Chanukah Event with Chef Michael Solomonov. Chef Solomonov is an Is
 raeli chef and restaurateur\, known for his Philadelphia restaurant\, Zaha
 v. 
DTSTART;TZID=America/Los_Angeles:20201202T170000
DTEND;TZID=America/Los_Angeles:20201202T183000
END:VEVENT
END:VCALENDAR
