BEGIN:VCALENDAR
PRODID:-//eluceo/ical//2.0/EN
VERSION:2.0
CALSCALE:GREGORIAN
BEGIN:VEVENT
UID:caa1ea0abbf8cbfb7bda112c1a8a520e
DTSTAMP:20260424T050846Z
SUMMARY:Jewish Long Beach Men's Philanthropy Above & Beyond Event
DESCRIPTION:Jewish Long Beach\nCalendar\nhttps://jewishlongbeach.org/calend
 ar/jewish-long-beach-mens-philanthropy-above-beyond-event\n\nJewish Long B
 each Men's Philanthropy presents Above & Beyond Event. The event will take
  place on the Weinberg Jewish Long Beach Campus. Tickets are $75\, kosher 
 "tailgate fare" will be served. Attendance is limited to 100 guests.Guest 
 speaker via satelitte is former American Football Offensive Guard in the N
 ational Football League.He is the author along with his brother Mtich Schw
 artz of Eat My Schwartz:Our story of NFL Football\, Food\, Family\, and Fa
 ith.His career history includes: Carolina Pa...
DTSTART;TZID=America/Los_Angeles:20210624T183000
DTEND;TZID=America/Los_Angeles:20210624T203000
END:VEVENT
END:VCALENDAR
