BEGIN:VCALENDAR
PRODID:-//eluceo/ical//2.0/EN
VERSION:2.0
CALSCALE:GREGORIAN
BEGIN:VEVENT
UID:df562ee65f932daaf9e41bcef90ee04f
DTSTAMP:20260420T180441Z
SUMMARY:Jewish Women's Theater
DESCRIPTION:Jewish Long Beach\nCalendar\nhttps://jewishlongbeach.org/calend
 ar/jewish-womens-theater\n\nTemple Israel Sisterhood and the Joys of Jewis
 h Learning are hosting a performance by the Jewish Women's Theater of THE 
 WAY HOME. This will be at Temple Israel\, 269 Loma Avenue\, Long Beach.
DTSTART;TZID=America/Los_Angeles:20190630T140000
DTEND;TZID=America/Los_Angeles:20190630T160000
END:VEVENT
END:VCALENDAR
