BEGIN:VCALENDAR
PRODID:-//eluceo/ical//2.0/EN
VERSION:2.0
CALSCALE:GREGORIAN
BEGIN:VEVENT
UID:eca8502e9a3223ac58a821ffd953458e
DTSTAMP:20260423T032840Z
SUMMARY:JFCS 60th Anniversay Celebration Past\, Present & Future
DESCRIPTION:Jewish Long Beach\nCalendar\nhttps://jewishlongbeach.org/calend
 ar/jfcs-60th-anniversay-celebration-past-present-future\n\nJewish Family &
  Children's Service of Long Beach & West Orange County presents:\n\nPast\,
  Present & Future six decades of compassionate caring for individuals & fa
 milies in our area.\n\nDrinks\, Dinner\, Stories\, Fun\n\nRecognition of p
 ast\, present & future leaders \n\nEntertainment by the Emperors
DTSTART;TZID=America/Los_Angeles:20180127T180000
DTEND;TZID=America/Los_Angeles:20180127T210000
END:VEVENT
END:VCALENDAR
