BEGIN:VCALENDAR
PRODID:-//eluceo/ical//2.0/EN
VERSION:2.0
CALSCALE:GREGORIAN
BEGIN:VEVENT
UID:c0c0f79ee0884a8ed0e944b450d8fde9
DTSTAMP:20260424T075422Z
SUMMARY:JFCS Presents Race With A View
DESCRIPTION:Jewish Long Beach\nCalendar\nhttps://jewishlongbeach.org/calend
 ar/jfcs-presents-race-with-a-view-1711565742\n\nJoin JFCS to kick off Ment
 al Health Awareness Month as we work together to raise vital funds to supp
 ort the life-changing programs JFCS offers to all in our community without
  regard for race\, religion\, socioeconomic status\, sexual orientation\, 
 gender identity or immigration status.www.jfcslboc.org/rwavThe race is ope
 n to walkers and runners of all ages\, both serious runners and novices. T
 he Early Bird Registration is $30 per person (available until 3/31)\; Regu
 lar Registration is $35\; Family Fun...
DTSTART;TZID=America/Los_Angeles:20240505T080000
DTEND;TZID=America/Los_Angeles:20240505T100000
END:VEVENT
END:VCALENDAR
