BEGIN:VCALENDAR
PRODID:-//eluceo/ical//2.0/EN
VERSION:2.0
CALSCALE:GREGORIAN
BEGIN:VEVENT
UID:b9aaf92b8ff5a67b6622f505b79147cb
DTSTAMP:20260425T170401Z
SUMMARY:JLB COVID-19 Relief Fund Update VIRTUAL Town Hall Meeting
DESCRIPTION:Jewish Long Beach\nCalendar\nhttps://jewishlongbeach.org/calend
 ar/jlb-covid-19-relief-fund-update-virtual-town-hall-meeting\n\nLast month
 \, Jewish Long Beach established its COVID-19 Relief Fund\, seeded with $5
 0\,000\, to assist the most vulnerable members of our Jewish community in 
 navigating this crisis. At that time\, we challenged the community to matc
 h our $50\,000 commitment and help maximize the impact of the fund on thos
 e in imminent need. We are pleased to report that\, thus far\, you have re
 sponded with nearly $25\,000 in contributions\, allowing Jewish Long Beach
  to make more than $45\,000 in grants to local Jewish...
DTSTART;TZID=America/Los_Angeles:20200501T120000
DTEND;TZID=America/Los_Angeles:20200501T130000
END:VEVENT
END:VCALENDAR
