BEGIN:VCALENDAR
PRODID:-//eluceo/ical//2.0/EN
VERSION:2.0
CALSCALE:GREGORIAN
BEGIN:VEVENT
UID:e626019951bac315e89e1d9ad8c2af07
DTSTAMP:20260425T215449Z
SUMMARY:Jewish Lecture Series: Echoes of the Past
DESCRIPTION:Jewish Long Beach\nCalendar\nhttps://jewishlongbeach.org/calend
 ar/jls-echoes-of-past\n\nwith ADL\n\nJennifer Goss will discuss the lesson
 s we can learn from the conditions and climate in pre-World War II Europe 
 and how we can apply these lessons in the future. Goss is a Program Manage
 r for Echoes & Reflections\, a joint partnership of the ADL\, USC Shoah Fo
 undation\, and Yad Vashem that provides resources for educators nationwide
 .
DTSTART;TZID=America/Los_Angeles:20240314T190000
DTEND;TZID=America/Los_Angeles:20240314T203000
END:VEVENT
END:VCALENDAR
