BEGIN:VCALENDAR
PRODID:-//eluceo/ical//2.0/EN
VERSION:2.0
CALSCALE:GREGORIAN
BEGIN:VEVENT
UID:8e9765343ede63cb8a7fd1f9016f405f
DTSTAMP:20260423T214630Z
SUMMARY:Kabbalah with Rabbi Perelmuter
DESCRIPTION:Jewish Long Beach\nCalendar\nhttps://jewishlongbeach.org/calend
 ar/kabbalah-with-rabbi-perelmuter\n\nWednesdays | 12 PM | In-person\n\nKab
 balah will not be meeting March 4\, 11\, April 1\, 8\n\nJoin Rabbi Perelmu
 ter as he guides you through the world of Kabbalah Jewish Mysticism. Each 
 week different topics will be discussed. All are welcome and no prior Jewi
 sh learning is required. Be inspired and learn something new in a warm and
  welcoming setting with a dynamic teacher!\n\n \n\nPlease bring Member Ba
 dge or ID to check in!\n\nFor more information\, contact Dana Schneider-Ch
 anzit at dschneider@...
DTSTART;TZID=America/Los_Angeles:20251022T120000
DTEND;TZID=America/Los_Angeles:20251022T130000
END:VEVENT
END:VCALENDAR
