BEGIN:VCALENDAR
PRODID:-//eluceo/ical//2.0/EN
VERSION:2.0
CALSCALE:GREGORIAN
BEGIN:VEVENT
UID:e804b87e5345f57079b65b6bd7ce7fa7
DTSTAMP:20260421T104144Z
SUMMARY:Kehillah Leadership Council
DESCRIPTION:Jewish Long Beach\nCalendar\nhttps://jewishlongbeach.org/calend
 ar/kehillah-leadership-council3\n\nKehillah Leadership Council
DTSTART;TZID=America/Los_Angeles:20160303T123000
DTEND;TZID=America/Los_Angeles:20160303T140000
END:VEVENT
END:VCALENDAR
