BEGIN:VCALENDAR
PRODID:-//eluceo/ical//2.0/EN
VERSION:2.0
CALSCALE:GREGORIAN
BEGIN:VEVENT
UID:922b5b37047b94d2bd69c54bceffd9b3
DTSTAMP:20260424T094057Z
SUMMARY:Kehillah
DESCRIPTION:Jewish Long Beach\nCalendar\nhttps://jewishlongbeach.org/calend
 ar/kehillah3\n\nKehillah
DTSTART;TZID=America/Los_Angeles:20170216T123000
DTEND;TZID=America/Los_Angeles:20170216T140000
END:VEVENT
END:VCALENDAR
